BEGIN:VCALENDAR
VERSION:2.0
PRODID:-//Oversized - ECPv6.15.20//NONSGML v1.0//EN
CALSCALE:GREGORIAN
METHOD:PUBLISH
X-WR-CALNAME:Oversized
X-ORIGINAL-URL:https://www.coverbandoversized.nl
X-WR-CALDESC:Evenementen voor Oversized
REFRESH-INTERVAL;VALUE=DURATION:PT1H
X-Robots-Tag:noindex
X-PUBLISHED-TTL:PT1H
BEGIN:VTIMEZONE
TZID:UTC
BEGIN:STANDARD
TZOFFSETFROM:+0000
TZOFFSETTO:+0000
TZNAME:UTC
DTSTART:20240101T000000
END:STANDARD
END:VTIMEZONE
BEGIN:VEVENT
DTSTART;TZID=UTC:20250907T130000
DTEND;TZID=UTC:20250907T180000
DTSTAMP:20260421T203108
CREATED:20250821T201739Z
LAST-MODIFIED:20250821T201856Z
UID:91-1757250000-1757268000@www.coverbandoversized.nl
SUMMARY:Muziekfestival Poeldijk
DESCRIPTION:
URL:https://www.coverbandoversized.nl/event/muziekfestival-poeldijk/
LOCATION:Voorstraat 52 Poeldijk\, Voorstraat 52\, Poeldijk\, Netherlands
END:VEVENT
END:VCALENDAR